BEGIN:VCALENDAR
VERSION:2.0
PRODID:-//AASPSI Brasil - ECPv6.15.20//NONSGML v1.0//EN
CALSCALE:GREGORIAN
METHOD:PUBLISH
X-WR-CALNAME:AASPSI Brasil
X-ORIGINAL-URL:https://aaspsibrasil.org.br
X-WR-CALDESC:Eventos para AASPSI Brasil
REFRESH-INTERVAL;VALUE=DURATION:PT1H
X-Robots-Tag:noindex
X-PUBLISHED-TTL:PT1H
BEGIN:VTIMEZONE
TZID:America/Sao_Paulo
BEGIN:STANDARD
TZOFFSETFROM:-0200
TZOFFSETTO:-0300
TZNAME:-03
DTSTART:20170219T020000
END:STANDARD
BEGIN:DAYLIGHT
TZOFFSETFROM:-0300
TZOFFSETTO:-0200
TZNAME:-02
DTSTART:20171015T030000
END:DAYLIGHT
BEGIN:STANDARD
TZOFFSETFROM:-0200
TZOFFSETTO:-0300
TZNAME:-03
DTSTART:20180218T020000
END:STANDARD
BEGIN:DAYLIGHT
TZOFFSETFROM:-0300
TZOFFSETTO:-0200
TZNAME:-02
DTSTART:20181104T030000
END:DAYLIGHT
BEGIN:STANDARD
TZOFFSETFROM:-0200
TZOFFSETTO:-0300
TZNAME:-03
DTSTART:20190217T020000
END:STANDARD
END:VTIMEZONE
BEGIN:VEVENT
DTSTART;VALUE=DATE:20211123
DTEND;VALUE=DATE:20211127
DTSTAMP:20260421T082708
CREATED:20211118T175227Z
LAST-MODIFIED:20211118T175633Z
UID:2601-1637625600-1637971199@aaspsibrasil.org.br
SUMMARY:VIII Seminário do Neca - II Webnário Internacional
DESCRIPTION:O NECA\, em parceria com FICE Internacional\, FICE-Brasil\, MNPCFC e apoio de diversas instituições\, entre elas o CONANDA\, realiza o ‘VIII Seminário sobre Qualidade do Serviço de Acolhimento de Crianças e Adolescentes: o(a) educador(a) social e seu impacto transformador na sua ação cotidiana’ – 2º Webinário Internacional\, que acontece de 23 a 26 de novembro de 2021. \nA edição deste ano evidencia ações dos educadores sociais que\, junto às equipes técnicas\, recriaram os serviços de acolhimento no período de pandemia de Covid-19. \nPor conta das restrições impostas pela pandemia\, o evento será online\, como em 2020. Para conferir a programação do Seminário\, conhecer os(a) palestrantes nacionais e internacionais\, além dos(as) painelistas e Serviços de Acolhimentos participantes\, e fazer a sua inscrição\, acesse o site: https://doity.com.br/viii-seminario-neca
URL:https://aaspsibrasil.org.br/event/viii-seminario-do-neca-ii-webnario-internacional/
CATEGORIES:Congresso
ATTACH;FMTTYPE=image/jpeg:https://aaspsibrasil.org.br/wp-content/uploads/2021/11/775.jpg
END:VEVENT
BEGIN:VEVENT
DTSTART;TZID=America/Sao_Paulo:20211118T190000
DTEND;TZID=America/Sao_Paulo:20211118T213000
DTSTAMP:20260421T082708
CREATED:20211108T144909Z
LAST-MODIFIED:20211108T173427Z
UID:2580-1637262000-1637271000@aaspsibrasil.org.br
SUMMARY:II Ciclo de Debates Sobre Criminologia Crítica da Unifesp
DESCRIPTION:II Ciclo de Debates Sobre Criminologia Crítica da Unifesp: A produção de saberes desde o materialismo histórico-dialético \n\nData: 18/11/2021\n\n\nHorário: 19h\n\n\nTransmissão: https://www.youtube.com/channel/UCAUjUvnkqPFGQUA7fuGhOuA\n\n\nCom participação da assistente social Elisabete Borgianni\, membro do Conselho de Especialistas da AASPSI Brasil
URL:https://aaspsibrasil.org.br/event/ii-ciclo-de-debates-sobre-criminologia-critica-da-unifesp/
CATEGORIES:Congresso
ATTACH;FMTTYPE=image/jpeg:https://aaspsibrasil.org.br/wp-content/uploads/2021/11/768.jpg
END:VEVENT
BEGIN:VEVENT
DTSTART;TZID=America/Sao_Paulo:20210511T190000
DTEND;TZID=America/Sao_Paulo:20210511T210000
DTSTAMP:20260421T082708
CREATED:20210504T201604Z
LAST-MODIFIED:20210504T201604Z
UID:2278-1620759600-1620766800@aaspsibrasil.org.br
SUMMARY:
DESCRIPTION:Importante live com participação da nossa diretora Newvone Ferreira da Costa.
URL:https://aaspsibrasil.org.br/event/2278/
CATEGORIES:Palestra
ATTACH;FMTTYPE=image/jpeg:https://aaspsibrasil.org.br/wp-content/uploads/2021/05/682.jpg
END:VEVENT
BEGIN:VEVENT
DTSTART;TZID=America/Sao_Paulo:20210507T093000
DTEND;TZID=America/Sao_Paulo:20210507T120000
DTSTAMP:20260421T082708
CREATED:20210503T170933Z
LAST-MODIFIED:20210503T170933Z
UID:2275-1620379800-1620388800@aaspsibrasil.org.br
SUMMARY:Acolhimento de crianças e adoelscentes: Normativas\, pesquisas e interlocuções
DESCRIPTION:
URL:https://aaspsibrasil.org.br/event/acolhimento-de-criancas-e-adoelscentes-normativas-pesquisas-e-interlocucoes/
CATEGORIES:Palestra
ATTACH;FMTTYPE=image/jpeg:https://aaspsibrasil.org.br/wp-content/uploads/2021/05/680.jpg
END:VEVENT
BEGIN:VEVENT
DTSTART;TZID=America/Sao_Paulo:20210419T190000
DTEND;TZID=America/Sao_Paulo:20210419T220000
DTSTAMP:20260421T082708
CREATED:20210412T184749Z
LAST-MODIFIED:20210412T184749Z
UID:2226-1618858800-1618869600@aaspsibrasil.org.br
SUMMARY:Aula inaugural: Crise e pandemia - Transformações no trabalho e desafios profissionais
DESCRIPTION:
URL:https://aaspsibrasil.org.br/event/aula-inaugural-crise-e-pandemia-transformacoes-no-trabalho-e-desafios-profissionais/
ATTACH;FMTTYPE=image/jpeg:https://aaspsibrasil.org.br/wp-content/uploads/2021/04/668-1.jpg
END:VEVENT
BEGIN:VEVENT
DTSTART;TZID=America/Sao_Paulo:20201003T090000
DTEND;TZID=America/Sao_Paulo:20201003T120000
DTSTAMP:20260421T082708
CREATED:20200930T180757Z
LAST-MODIFIED:20200930T181704Z
UID:1923-1601715600-1601726400@aaspsibrasil.org.br
SUMMARY:Workshop: Avaliação de alienação parental na perspectiva social crítica
DESCRIPTION:  \nVocê tem interesse em compreender e/ou se atualizar sobre demandas clínicas/judiciais envolvendo acusações e identificação de alienação parental?\nQuer saber como responder a essas demandas em termos teórico\, metodológico\, técnico e ético da Psicologia\, com enfoque na Psicologia Social Jurídica? Você tem dúvidas sobre as repercussões éticas e judiciais de tais demandas sobre a sua práxis? Quer indicação de bibliografia básica e acesso a textos selecionados e organizados para estudo?\n\nEntão\, venha participar do WORKSHOP PSICOLOGIA JURÍDICA –\nAvaliação de Alienação Parental na Perspectiva Social Crítica. Você terá orientação com profissionais certificadas e reconhecidas na área\, com experiência na atuação como assistentes técnicas e peritas judiciais\, com extensa trajetória acadêmica\, pesquisas e publicações na interface Psicologia e Justiça.\n\nDia: 03 de Outubro (sábado)\nHorário: 9h às 12h\nPúblico Alvo: Psicólogas/os\, Assistentes Sociais e estudantes de Psicologia e Serviço Social
URL:https://aaspsibrasil.org.br/event/workshop-avaliacao-de-alienacao-parental-na-perspectiva-social-critica/
ATTACH;FMTTYPE=image/jpeg:https://aaspsibrasil.org.br/wp-content/uploads/2020/09/604.jpg
END:VEVENT
BEGIN:VEVENT
DTSTART;TZID=America/Sao_Paulo:20200728T190000
DTEND;TZID=America/Sao_Paulo:20200728T203000
DTSTAMP:20260421T082708
CREATED:20200727T135342Z
LAST-MODIFIED:20200727T135342Z
UID:1781-1595962800-1595968200@aaspsibrasil.org.br
SUMMARY:
DESCRIPTION:É amanhã! Participe!\n\nA sala de reunião no Google Meet será aberta um pouco antes do horário marcado: meet.google.com/omi-jkbj-qbh\nO debate será retransmitido por live no Facebook da AASPSI Brasil
URL:https://aaspsibrasil.org.br/event/1781/
CATEGORIES:Palestra
ATTACH;FMTTYPE=image/jpeg:https://aaspsibrasil.org.br/wp-content/uploads/2020/07/575-1.jpg
END:VEVENT
BEGIN:VEVENT
DTSTART;TZID=America/Sao_Paulo:20200710T100000
DTEND;TZID=America/Sao_Paulo:20200710T120000
DTSTAMP:20260421T082708
CREATED:20200709T185034Z
LAST-MODIFIED:20200709T185034Z
UID:1731-1594375200-1594382400@aaspsibrasil.org.br
SUMMARY:Live: Adiamento do trabalho presencial no Tribunal de Justiça de São Paulo
DESCRIPTION:Assistentes sociais\, psicólogos e oficiais de justiça seguem trabalhando nas ruas sem o fornecimento dos EPIs adequados. Como o TJ-SP pretende oferecer condições seguras aos demais servidores? \nNão há protocolos suficientes para o retorno dos trabalhos presenciais. \nEntidades representativas de servidores do Judiciário irão promover uma live aberta nesta sexta-feira\, 10 de julho\, às 10 horas\, aos servidores para debater o adiamento dos trabalhos presenciais nos fóruns do Tribunal de Justiça do Estado de São Paulo. \n#TJSPNãoÉHoraDeVoltar #NãoÉHoraDeVoltar \nPara participar\, basta clicar no link: https://us02web.zoom.us/j/84715546424 \nSerá transmitida ao vivo no Facebook e Youtube da Fespesp. \nFacebook: https://facebook.com/fed.fespesp/live/\nYoutube: https://www.youtube.com/channel/UCdtFJuHZ8FpxT34hyX1f6oQ \n 
URL:https://aaspsibrasil.org.br/event/live-adiamento-do-trabalho-presencial-no-tribunal-de-justica-de-sao-paulo/
CATEGORIES:Palestra
ATTACH;FMTTYPE=image/jpeg:https://aaspsibrasil.org.br/wp-content/uploads/2020/07/549.jpg
END:VEVENT
BEGIN:VEVENT
DTSTART;TZID=America/Sao_Paulo:20200610T143000
DTEND;TZID=America/Sao_Paulo:20200610T163000
DTSTAMP:20260421T082708
CREATED:20200603T183215Z
LAST-MODIFIED:20200603T183215Z
UID:1682-1591799400-1591806600@aaspsibrasil.org.br
SUMMARY:Seminário online: O Ministério Público na defesa da igualdade racial
DESCRIPTION:
URL:https://aaspsibrasil.org.br/event/seminario-online-o-ministerio-publico-na-defesa-da-igualdade-racial/
CATEGORIES:Palestra
ATTACH;FMTTYPE=image/jpeg:https://aaspsibrasil.org.br/wp-content/uploads/2020/06/537.jpg
END:VEVENT
BEGIN:VEVENT
DTSTART;TZID=America/Sao_Paulo:20200215T083000
DTEND;TZID=America/Sao_Paulo:20200215T150000
DTSTAMP:20260421T082708
CREATED:20200130T215449Z
LAST-MODIFIED:20200130T220021Z
UID:1460-1581755400-1581778800@aaspsibrasil.org.br
SUMMARY:Encontro Estadual dos Servidores do Judiciário Paulista
DESCRIPTION:
URL:https://aaspsibrasil.org.br/event/encontro-estadual-dos-servidores-do-judiciario-paulista/
LOCATION:Associação Cristã de Moços\, Rua Hortência\, 15\, Osasco\, São Paulo\, Brasil
CATEGORIES:Palestra
ATTACH;FMTTYPE=image/jpeg:https://aaspsibrasil.org.br/wp-content/uploads/2020/01/494.jpg
END:VEVENT
BEGIN:VEVENT
DTSTART;TZID=America/Sao_Paulo:20200206T180000
DTEND;TZID=America/Sao_Paulo:20200206T213000
DTSTAMP:20260421T082708
CREATED:20200124T144359Z
LAST-MODIFIED:20200124T145223Z
UID:1438-1581012000-1581024600@aaspsibrasil.org.br
SUMMARY:Audiência pública: Mães em cárcere
DESCRIPTION:
URL:https://aaspsibrasil.org.br/event/audiencia-publica-maes-em-carcere/
LOCATION:Auditório da Defensoria Pública de São Paulo\, Rua Boa Vista\, 200\, São Paulo\, São Paulo\, Brasil
CATEGORIES:Palestra
ATTACH;FMTTYPE=image/jpeg:https://aaspsibrasil.org.br/wp-content/uploads/2020/01/492.jpg
END:VEVENT
BEGIN:VEVENT
DTSTART;TZID=America/Sao_Paulo:20191016T170000
DTEND;TZID=America/Sao_Paulo:20191016T200000
DTSTAMP:20260421T082708
CREATED:20190924T134312Z
LAST-MODIFIED:20190924T134312Z
UID:1234-1571245200-1571256000@aaspsibrasil.org.br
SUMMARY:Lançamento da campanha Proteger é garantir direitos
DESCRIPTION:A campanha “Proteger é Garantir Direitos” é uma ação do Movimento pela Proteção Integral de Crianças e Adolescentes e surge com o mote central de difundir e traduzir as conquistas alçadas com o reconhecimento social\, político e normativo da doutrina da proteção integral\, que se materializou sob os marcos da Convenção Internacional dos Direitos da Criança (ONU\, 1989) e da promulgação do Estatuto da Criança e do Adolescente! \nO dia 16/10/2019 marcará o início dessa campanha\, envolvendo vários sujeitos políticos na defesa da proteção integral de crianças e adolescentes! \nEsse convite é para que mais sujeitos se somem nessa luta! Venham! \n#ProteçãoIntegral
URL:https://aaspsibrasil.org.br/event/lancamento-da-campanha-proteger-e-garantir-direitos/
LOCATION:Auditório 333 da PUC-SP\, Rua Ministro Godói\, 969\, São Paulo\, São Paulo\, Brasil
CATEGORIES:Palestra
ATTACH;FMTTYPE=image/jpeg:https://aaspsibrasil.org.br/wp-content/uploads/2019/09/449.jpg
END:VEVENT
BEGIN:VEVENT
DTSTART;TZID=America/Sao_Paulo:20191002T080000
DTEND;TZID=America/Sao_Paulo:20191004T170000
DTSTAMP:20260421T082708
CREATED:20190913T131741Z
LAST-MODIFIED:20190913T131741Z
UID:1221-1570003200-1570208400@aaspsibrasil.org.br
SUMMARY:VII Seminário Internacional: Direitos Humanos\, violência e pobreza
DESCRIPTION:
URL:https://aaspsibrasil.org.br/event/vii-seminario-internacional-direitos-humanos-violencia-e-pobreza/
LOCATION:Universidade do Estado do Rio de Janeiro\, Rio de Janeiro\, Rio de Janeiro\, Brasil
CATEGORIES:Congresso
ATTACH;FMTTYPE=image/jpeg:https://aaspsibrasil.org.br/wp-content/uploads/2019/09/444.jpg
END:VEVENT
BEGIN:VEVENT
DTSTART;TZID=America/Sao_Paulo:20190702T133000
DTEND;TZID=America/Sao_Paulo:20190702T163000
DTSTAMP:20260421T082708
CREATED:20190624T215721Z
LAST-MODIFIED:20190624T215959Z
UID:1055-1562074200-1562085000@aaspsibrasil.org.br
SUMMARY:Roda de Conversa: Alienação parental
DESCRIPTION:
URL:https://aaspsibrasil.org.br/event/roda-de-conversa-alienacao-parental/
LOCATION:Anfiteatro da USF\, Rua Waldemar César da Silveira\, 105\, Campinas\, São Paulo\, Brasil
CATEGORIES:Palestra
ATTACH;FMTTYPE=image/jpeg:https://aaspsibrasil.org.br/wp-content/uploads/2019/06/384.jpg
END:VEVENT
BEGIN:VEVENT
DTSTART;VALUE=DATE:20190506
DTEND;VALUE=DATE:20190507
DTSTAMP:20260421T082708
CREATED:20190405T214717Z
LAST-MODIFIED:20190405T214717Z
UID:943-1557100800-1557187199@aaspsibrasil.org.br
SUMMARY:12° Seminário Anual de Serviço Social: Serviço Social brasileiro - Memória\, história e desafios contemporâneos
DESCRIPTION:O 12º Seminário Anual de Serviço Social\, neste ano\, será realizado em comemoração aos 40 anos do “Congresso da Virada” e também aos 40 anos da Revista Serviço Social & Sociedade da Cortez Editora. O primeiro número da Revista foi lançado nesse histórico “Congresso da Virada” em setembro de 1979 e\, agora\, em março de 2019\, foi publicado o número 134 – totalizando 134 números ininterruptos. \nEsse percurso de quatro décadas representa uma construção hegemônica pela renovação do Serviço Social no Brasil – orientada pela perspectiva emancipatória da classe trabalhadora – que tem no seu horizonte o Projeto Ético Político do Serviço Social. \nO objetivo deste Seminário é analisar as transformações societárias ocorridas no Brasil em suas dimensões da vida social\, cultural\, política e econômica e suas repercussões para o Serviço Social e a partir disso\, busca potencializar a atualidade do processo de renovação do Serviço Social como um legado imprescindível\, que alimenta a ruptura contra o conservadorismo. \nO evento ocorrerá no TUCA (Teatro da Universidade Católica de São Paulo – PUC) na Rua Monte Alegre\, 1024\, no dia 06/05/2019 a partir das 08 horas. \nInscrições e mais informações:\nhttp://www.cortezeditora.com.br/preview/vitrine/43/Index.aspx \nValores:\nEstudante de Graduação – R$80\,00\nAssinantes – R$80\,00\nEstudantes de Pós-Graduação – R$130\,00\nProfissionais: R$160\,00\n*Valores válidos até o dia 23/04. Após essa data\, os preços sofrerão alterações. \nVagas limitadas. \nProgramação:\n8h – Café e Credenciamento\n8h40 – Abertura\n9h00 – Conferência: Renovação do Serviço Social no Brasil e desafios contemporâneos \nConferencistas:\nProfa. Dra. Marilda Iamamoto\nProf. Dr. José Paulo Netto (a confirmar)\nCoordenação da mesa:\nProfa. Dra. Maria Rosangela Batistoni\nUNIFESP \n11h30 – Homenagem aos 40 anos da Revista Serviço Social & Sociedade\n12h30 – Intervalo para Almoço\n13h30 – Atividade Cultural\n14h – Mesa: Reação conservadora\, resistências e o Serviço Social no Brasil e na América Latina \nPalestrantes:\nProfa. Dra. Rita Andrea Meoño Molina\nPresidente da ALAEITS (Asociación Latinoamericana de Enseñanza e Investigación en Trabajo Social) \nProfa. Dra. Esther Lemos\nUNIOESTE (Universidade Estadual do Oeste do Paraná)\nPresidente da ABEPSS (Associação Brasileira de Ensino e Pesquisa em Serviço Social) \nProfa. Dra. Josiane Soares dos Santos\n(UFS (Universidade Federal de Sergipe)\nPresidente do CFESS (Conselho Federal de Serviço Social) \nCoordenadora da mesa:\nProfa. Dra. Lúcia Barroco\nPUC-SP \n17h30 – Lançamento de Livros
URL:https://aaspsibrasil.org.br/event/12-seminario-anual-de-servico-social-servico-social-brasileiro-memoria-historia-e-desafios-contemporaneos/
LOCATION:Teatro TUCA\, Rua Monte Alegre\, 1024\, São Paulo\, São Paulo\, Brasil
CATEGORIES:Palestra
ATTACH;FMTTYPE=image/jpeg:https://aaspsibrasil.org.br/wp-content/uploads/2019/04/322-1.jpg
END:VEVENT
BEGIN:VEVENT
DTSTART;TZID=America/Sao_Paulo:20190415T173000
DTEND;TZID=America/Sao_Paulo:20190415T200000
DTSTAMP:20260421T082708
CREATED:20190328T162355Z
LAST-MODIFIED:20190328T162355Z
UID:937-1555349400-1555358400@aaspsibrasil.org.br
SUMMARY:Seminário Sociojurídico - Pesquisas\, trabalho e proteção integral de crianças e adolescentes
DESCRIPTION:
URL:https://aaspsibrasil.org.br/event/seminario-sociojuridico-pesquisas-trabalho-e-protecao-integral-de-criancas-e-adolescentes/
LOCATION:Teatro Tucarena PUC-SP\, Rua Monte Alegre\, 1024\, São Paulo\, São Paulo\, Brasil
CATEGORIES:Palestra
ATTACH;FMTTYPE=image/jpeg:https://aaspsibrasil.org.br/wp-content/uploads/2018/02/Eventos5.jpg
END:VEVENT
BEGIN:VEVENT
DTSTART;VALUE=DATE:20190327
DTEND;VALUE=DATE:20190330
DTSTAMP:20260421T082708
CREATED:20190201T161559Z
LAST-MODIFIED:20190205T135012Z
UID:864-1553644800-1553903999@aaspsibrasil.org.br
SUMMARY:I Seminário Nacional Científico das Juventudes Negras
DESCRIPTION:
URL:https://aaspsibrasil.org.br/event/i-seminario-nacional-cientifico-das-juventudes-negras/
LOCATION:UFRB\, Cruz das Almas\, Bahia\, Brasil
CATEGORIES:Congresso
ATTACH;FMTTYPE=image/jpeg:https://aaspsibrasil.org.br/wp-content/uploads/2018/02/Eventos5.jpg
END:VEVENT
BEGIN:VEVENT
DTSTART;VALUE=DATE:20190315
DTEND;VALUE=DATE:20190316
DTSTAMP:20260421T082708
CREATED:20190201T132353Z
LAST-MODIFIED:20190201T155756Z
UID:856-1552608000-1552694399@aaspsibrasil.org.br
SUMMARY:Primeiro Seminário Estadual do Sociojurídico: "O Serviço Social na área sociojurídica - Dilemas\, desafios e lutas"
DESCRIPTION:
URL:https://aaspsibrasil.org.br/event/primeiro-seminario-estadual-do-sociojuridico-o-servico-social-na-area-sociojuridica-dilemas-desafios-e-lutas/
LOCATION:Cuiabá\, Cuiabá\, Mato Grosso\, Brasil
CATEGORIES:Congresso
ATTACH;FMTTYPE=image/jpeg:https://aaspsibrasil.org.br/wp-content/uploads/2018/02/Eventos5.jpg
END:VEVENT
BEGIN:VEVENT
DTSTART;TZID=America/Sao_Paulo:20180824T140000
DTEND;TZID=America/Sao_Paulo:20180824T140000
DTSTAMP:20260421T082708
CREATED:20180731T175226Z
LAST-MODIFIED:20180731T175226Z
UID:698-1535119200-1535119200@aaspsibrasil.org.br
SUMMARY:Da violência doméstica ao feminicídio: Os caminhos da prevenção
DESCRIPTION:Inscrições pelo link: https://goo.gl/forms/47qucxpoH1eWXKaV2
URL:https://aaspsibrasil.org.br/event/da-violencia-domestica-ao-feminicidio-os-caminhos-da-prevencao/
LOCATION:Complexo Judiciário Ministro Mário Guimarães\, Av. Dr. Abraão Ribeiro\, 313\, São Paulo\, São Paulo\, Brasil
CATEGORIES:Palestra
ATTACH;FMTTYPE=image/jpeg:https://aaspsibrasil.org.br/wp-content/uploads/2018/02/Eventos5.jpg
END:VEVENT
BEGIN:VEVENT
DTSTART;TZID=America/Sao_Paulo:20180803T183000
DTEND;TZID=America/Sao_Paulo:20180803T183000
DTSTAMP:20260421T082708
CREATED:20180711T193302Z
LAST-MODIFIED:20180711T193302Z
UID:677-1533321000-1533321000@aaspsibrasil.org.br
SUMMARY:Lei Brasileira de Inclusão: Impactos na inclusão social e vida independente das pessoas com deficiência
DESCRIPTION:
URL:https://aaspsibrasil.org.br/event/lei-brasileira-de-inclusao-impactos-na-inclusao-social-e-vida-independente-das-pessoas-com-deficiencia/
LOCATION:CRP-SP\, Rua Arruda Alvim\, 89\, São Paulo\, São Paulo\, Brasil
CATEGORIES:Palestra
ATTACH;FMTTYPE=image/jpeg:https://aaspsibrasil.org.br/wp-content/uploads/2018/02/Eventos5.jpg
END:VEVENT
BEGIN:VEVENT
DTSTART;TZID=America/Sao_Paulo:20180801T080000
DTEND;TZID=America/Sao_Paulo:20180802T170000
DTSTAMP:20260421T082708
CREATED:20180425T193750Z
LAST-MODIFIED:20180425T193750Z
UID:603-1533110400-1533229200@aaspsibrasil.org.br
SUMMARY:2° Seminário nacional: O trabalho do/a assistente social na política de assistência social
DESCRIPTION:Os espaços organizativos da categoria\, como os eventos do Conjunto CFESS-CRESS\, têm sido cada vez mais fundamentais para se debater estratégias de defesa das políticas sociais\, dos direitos sociais de toda classe trabalhadora e das condições éticas e técnicas do trabalho de assistentes sociais. \nPor isso\, nos dias 1º e 2 de agosto de 2018\, em Fortaleza (CE)\, o CFESS\, juntamente com o CRESS-CE\, realizará o 2º Seminário Nacional O Trabalho do/a Assistente Social na Política de Assistência Social. As inscrições serão gratuitas.
URL:https://aaspsibrasil.org.br/event/2-seminario-nacional-o-trabalho-do-a-assistente-social-na-politica-de-assistencia-social/
LOCATION:Fortaleza\, Fortaleza\, Ceará\, Brasil
CATEGORIES:Congresso
END:VEVENT
BEGIN:VEVENT
DTSTART;TZID=America/Sao_Paulo:20180524T183000
DTEND;TZID=America/Sao_Paulo:20180524T213000
DTSTAMP:20260421T082708
CREATED:20180516T204449Z
LAST-MODIFIED:20180516T204449Z
UID:643-1527186600-1527197400@aaspsibrasil.org.br
SUMMARY:Violência sexual contra crianças e adolescentes: O cuidado em rede
DESCRIPTION:
URL:https://aaspsibrasil.org.br/event/violencia-sexual-contra-criancas-e-adolescentes-o-cuidado-em-rede/
LOCATION:Auditório da ACI RP\, Rua Visconde de Inhaúma\, 489\, Ribeirão Preto\, São Paulo\, Brasil
CATEGORIES:Palestra
END:VEVENT
BEGIN:VEVENT
DTSTART;TZID=America/Sao_Paulo:20180518T100000
DTEND;TZID=America/Sao_Paulo:20180518T120000
DTSTAMP:20260421T082708
CREATED:20180503T150728Z
LAST-MODIFIED:20180503T150751Z
UID:627-1526637600-1526644800@aaspsibrasil.org.br
SUMMARY:Combate à Exploração Sexual Contra Crianças e Adolescentes
DESCRIPTION:Programação: \n10h00 – Café de boas vindas \n10h15 – Abertura \n10h30 – Apresentação do Espetáculo: “NÃO SOU ALICE\, SOU ARACELI” \nA história de uma garotinha de 08 anos\, chocou o Brasil de 1973. Araceli era apenas uma pequena menina que gostava de bonecas e do seu cachorrinho Radar. Mas\, a criança que queria ser professora\, deixou um alerta ao ter sua vida interrompida de modo cruel e revoltante. \nFICHA TÉCNICA: Direção: Lucas De Lucca/Dramaturgista: Mike Holden/Elenco: Maju Pereira e Malu Oliveira\nOperador de som/luz: Beatrice Dias/ Produção: Sobrado Verde Produções/ Recomendação: 12 anos/ Duração: 30 minutos \n11h00 – Palestra “Novos Combates e Novos Abusos em Tempos de Ideologia de Gênero” – Luís Fernando de Oliveira Saraiva – Psicólogo e Psicoterapeuta – CRP 06/81533 Doutor em Psicologia Social – IPUSP “Tese: A familiarização da assistência social: promoção de direitos e gestão da vida no encontro entre vulnerabilidades\, (des)proteção e periculosidade \nDisponível em: http://www.teses.usp.br/teses/disponiveis/47/47134/tde-16082016-102659/pt-br.php \nEvento Gratuito – Vagas Limitadas\nInscrições: http://www.crpsp.org.br/sjrpreto/agenda/inscricoes.aspx \nMais informações pelo e-mail: sjrpreto@crpsp.org.br ou telefones: (17) 3235-2883 / 3235-5047 \nLocal: Auditório UNORP | Casseb\nEndereço: Rua Ipiranga\, 3460 – SJRio Preto – SP
URL:https://aaspsibrasil.org.br/event/combate-a-exploracao-sexual-contra-criancas-e-adolescentes/
LOCATION:Auditório UNORP\, Rua Ipiranga\, 3460\, Sao Jose do Rio Preto\, Sao Paulo\, Brasil
CATEGORIES:Palestra
END:VEVENT
BEGIN:VEVENT
DTSTART;TZID=America/Sao_Paulo:20180511T083000
DTEND;TZID=America/Sao_Paulo:20180511T180000
DTSTAMP:20260421T082708
CREATED:20180425T194557Z
LAST-MODIFIED:20180425T194557Z
UID:608-1526027400-1526061600@aaspsibrasil.org.br
SUMMARY:Seminário estadual de assistência social
DESCRIPTION:
URL:https://aaspsibrasil.org.br/event/seminario-estadual-de-assistencia-social/
LOCATION:Curitiba\, Curitiba\, Paraná\, Brasil
CATEGORIES:Congresso
END:VEVENT
BEGIN:VEVENT
DTSTART;TZID=America/Sao_Paulo:20180507T183000
DTEND;TZID=America/Sao_Paulo:20180508T213000
DTSTAMP:20260421T082708
CREATED:20180503T145933Z
LAST-MODIFIED:20180503T145933Z
UID:622-1525717800-1525815000@aaspsibrasil.org.br
SUMMARY:3° Defensoria em debate: Relações de gênero\,saúde e trabalho
DESCRIPTION:
URL:https://aaspsibrasil.org.br/event/3-defensoria-em-debate-relacoes-de-generosaude-e-trabalho/
LOCATION:Faculdade de Direito da USP\, Largo São Francisco\, 95 - Centro\, São Paulo\, São Paulo\, Brasil
CATEGORIES:Palestra
END:VEVENT
BEGIN:VEVENT
DTSTART;TZID=America/Sao_Paulo:20180504T140000
DTEND;TZID=America/Sao_Paulo:20180504T170000
DTSTAMP:20260421T082708
CREATED:20180419T190922Z
LAST-MODIFIED:20180419T191201Z
UID:587-1525442400-1525453200@aaspsibrasil.org.br
SUMMARY:Desgaste mental de assistentes sociais nas relações de trabalho
DESCRIPTION:
URL:https://aaspsibrasil.org.br/event/desgaste-mental-de-assistentes-sociais-nas-relacoes-de-trabalho/
CATEGORIES:Palestra
END:VEVENT
BEGIN:VEVENT
DTSTART;TZID=America/Sao_Paulo:20180426T120000
DTEND;TZID=America/Sao_Paulo:20180426T133000
DTSTAMP:20260421T082708
CREATED:20180425T192427Z
LAST-MODIFIED:20180425T192427Z
UID:595-1524744000-1524749400@aaspsibrasil.org.br
SUMMARY:Ato contra as práticas de inquirição de crianças vítimas de violência
DESCRIPTION:
URL:https://aaspsibrasil.org.br/event/ato-contra-as-praticas-de-inquiricao-de-criancas-vitimas-de-violencia/
LOCATION:Cidade Judiciária – Campinas\, Campinas\, São Paulo\, Brasil
END:VEVENT
BEGIN:VEVENT
DTSTART;TZID=America/Sao_Paulo:20180420T130000
DTEND;TZID=America/Sao_Paulo:20180420T170000
DTSTAMP:20260421T082708
CREATED:20180405T141427Z
LAST-MODIFIED:20180405T141427Z
UID:556-1524229200-1524243600@aaspsibrasil.org.br
SUMMARY:Assembleia geral dos servidores do TJ-SP
DESCRIPTION:ATENÇÃO assistentes sociais e psicólogos do TJ-SP: \nO Tribunal de Justiça ofereceu apenas 1\,81% de reposição salarial. Isto é muito pouco considerando a dívida de mais de 14% do TJ com os servidores. \nLembramos também que a equiparação da gratificação dos assistentes sociais e psicólogos com o pessoal da saúde do TJ-SP não foi completa. Portanto\, devemos todos estar presentes na praça no dia 20! Juntos somos fortes! \n#nenhumdireitoamenos\n#campanhasalarial2018
URL:https://aaspsibrasil.org.br/event/assembleia-geral-dos-servidores-do-tj-sp/
ATTACH;FMTTYPE=image/jpeg:https://aaspsibrasil.org.br/wp-content/uploads/2018/02/Eventos5.jpg
END:VEVENT
BEGIN:VEVENT
DTSTART;TZID=America/Sao_Paulo:20180413T133000
DTEND;TZID=America/Sao_Paulo:20180414T180000
DTSTAMP:20260421T082708
CREATED:20180405T142712Z
LAST-MODIFIED:20180405T142712Z
UID:559-1523626200-1523728800@aaspsibrasil.org.br
SUMMARY:III Encontro estadual das(os) trabalhadoras(es) do Serviço Social e da reabilitação profissional do INSS do Paraná
DESCRIPTION:
URL:https://aaspsibrasil.org.br/event/iii-encontro-estadual-dasos-trabalhadorases-do-servico-social-e-da-reabilitacao-profissional-do-inss-do-parana/
LOCATION:Hotel San Martin\, Paraná\, Brasil
ATTACH;FMTTYPE=image/jpeg:https://aaspsibrasil.org.br/wp-content/uploads/2018/02/Eventos5.jpg
END:VEVENT
BEGIN:VEVENT
DTSTART;TZID=America/Sao_Paulo:20180407T080000
DTEND;TZID=America/Sao_Paulo:20180408T180000
DTSTAMP:20260421T082708
CREATED:20180327T132830Z
LAST-MODIFIED:20180327T132830Z
UID:530-1523088000-1523210400@aaspsibrasil.org.br
SUMMARY:V Plenária FNTSUAS
DESCRIPTION:
URL:https://aaspsibrasil.org.br/event/v-plenaria-fntsuas/
LOCATION:São Luis – MA\, São Luis\, Maranhão\, Brasil
END:VEVENT
END:VCALENDAR